BEGIN:VCALENDAR
VERSION:2.0
PRODID:-//hacksw/handcal//NONSGML v1.0//EN
BEGIN:VEVENT
SUMMARY:Interclub PING JUSTARET (C)
UID:5e47ca3d-5906-49c7-8a02-8171b085b35f
DTSTART:20260620T220000Z
DTEND:20260621T220000Z
LOCATION:Localisation   
CATEGORIES:Sportif
STATUS:
URL;VALUE=URI:https://www.ccv-castelmaurou.com/evenements/2026/06/21/interclub-ping-justaret-c-2396140
END:VEVENT
END:VCALENDAR
