BEGIN:VCALENDAR
VERSION:2.0
PRODID:-//hacksw/handcal//NONSGML v1.0//EN
BEGIN:VEVENT
SUMMARY:Sortie Interne CCV (C)
UID:e66d6cb1-36b5-4ded-a0c2-b2b2e1d4803b
DTSTART:20260619T220000Z
DTEND:20260620T220000Z
LOCATION:Localisation   
CATEGORIES:Sportif
STATUS:
URL;VALUE=URI:https://www.ccv-castelmaurou.com/evenements/2026/06/20/sortie-interne-ccv-c-2396139
END:VEVENT
END:VCALENDAR
