BEGIN:VCALENDAR
VERSION:2.0
PRODID:-//hacksw/handcal//NONSGML v1.0//EN
BEGIN:VEVENT
SUMMARY:GNFY Lourdes Tourmalet (C)
UID:e0e36cdd-69e3-4a79-a7b5-f77dc6050922
DTSTART:20260613T220000Z
DTEND:20260614T220000Z
LOCATION:Localisation   
CATEGORIES:Sportif
STATUS:
URL;VALUE=URI:https://www.ccv-castelmaurou.com/evenements/2026/06/14/gnfy-lourdes-tourmalet-c-2396138
END:VEVENT
END:VCALENDAR
