BEGIN:VCALENDAR
VERSION:2.0
PRODID:-//hacksw/handcal//NONSGML v1.0//EN
BEGIN:VEVENT
SUMMARY:Interclub FROUZINS (C)
UID:22e330da-649b-41a2-be97-f13c4bcf209c
DTSTART:20260606T220000Z
DTEND:20260607T220000Z
LOCATION:Localisation   
CATEGORIES:Sportif
STATUS:
URL;VALUE=URI:https://www.ccv-castelmaurou.com/evenements/2026/06/07/interclub-frouzins-c-2396134
END:VEVENT
END:VCALENDAR
