BEGIN:VCALENDAR
VERSION:2.0
PRODID:-//hacksw/handcal//NONSGML v1.0//EN
BEGIN:VEVENT
SUMMARY:L'Octogonale Aveyron (C)
UID:6a28cf76-30ee-4e48-876f-b2e680270ca4
DTSTART:20260530T220000Z
DTEND:20260531T220000Z
LOCATION:Localisation   
CATEGORIES:Sportif
STATUS:
URL;VALUE=URI:https://www.ccv-castelmaurou.com/evenements/2026/05/31/loctogonale-aveyron-c-2396133
END:VEVENT
END:VCALENDAR
