BEGIN:VCALENDAR
VERSION:2.0
PRODID:-//hacksw/handcal//NONSGML v1.0//EN
BEGIN:VEVENT
SUMMARY:Les Cols FSGT (C)
UID:a590ddd2-41ba-4d38-9cd8-711ff95d878b
DTSTART:20260529T220000Z
DTEND:20260530T220000Z
LOCATION:Localisation   
CATEGORIES:Sportif
STATUS:
DESCRIPTION:<p>Salle Benoit Vautrin<br />
 81700
 Lempaut</p>
 
 <p>Coordonnees GPS : 43°31'41.7"N
 2°03'50.1"E</p>
 
 <p><a
 href="https://www.cyclotourisme-31.com/evenement-77-les-cols-2026.html"
 target="_blank"><strong>Les Cols
 2026</strong></a></p>
 
 <p><strong>Propose par
 la COMMISSION<strong> </strong>CYCLO
 FSGT31</strong></p>
 
 <p><strong>Lieu : Montagne
 noire</strong></p>
 
 <p><strong>Inscriptions de 7h a 9h. Lieu de
 depart et d'arrivee : Lempaut (81)</strong></p>
 
 <p><strong>Comme
 lors des precedentes editions, les grimpeurs vont etre
 gates</strong>.</p>
 
 <p><em><strong>Ravitaillement,  jusqu'a
 12h30</strong></em></p>
 
 <p><em><strong>Repas froid a l'arrivee sur
 inscription</strong></em></p>
 
 <p><a
 href="https://www.cyclotourisme-31.com/uploaded/Circuits_Commission_%C3%A0_partir_de_2018/2026/les-cols-montagne-n.pdf"
 target="_blank"><span style="color:#8e44ad;"><u><strong>3 Parcours
 proposes</strong></u></span></a></p>
 
 <p><span
 style="color:#27ae60;"><strong>Vert -
 Or </strong><strong>23529506</strong><strong> - 63 km - 1033 m
 d+</strong></span></p>
 
 <p><span style="color:#2980b9;"><strong>Bleu
 - </strong><strong>Or 23529535 - 105 km - 1465 m
 d+</strong></span></p>
 
 <p><span style="color:#c0392b;"><strong>Rouge
 - Or </strong><strong>23529397</strong><strong> - 132 km - 2313 m
 d+</strong></span></p>
 
 <p><em><a
 href="https://www.cyclotourisme-31.com/76+les-randos-de-la-commission.html"
 target="_blank"><span style="color:#000000;">Cette organisation, vous
 est aussi proposee en randonnee permanente</span></a> <a
 href="https://www.cyclotourisme-31.com/76+les-randos-de-la-commission.html"
 target="_blank"><span style="color:#000000;">a effectuer au moment de
 son choix, tout au long de la saison. </span></a><a
 href="https://www.cyclotourisme-31.com/76+les-randos-de-la-commission.html"
 target="_blank"><span style="color:#000000;">Points de controles, sur
 les feuilles de route avec les parcours.</span></a></em></p>
URL;VALUE=URI:https://www.ccv-castelmaurou.com/evenements/2026/05/30/les-cols-fsgt-c-2396132
END:VEVENT
END:VCALENDAR
