BEGIN:VCALENDAR
VERSION:2.0
PRODID:-//hacksw/handcal//NONSGML v1.0//EN
BEGIN:VEVENT
SUMMARY:La Bizikleta (C)
UID:2f255edd-e4fb-435e-a4b3-6ff95dbc09c2
DTSTART:20260524T053000Z
DTEND:20260524T220000Z
LOCATION:Localisation   
CATEGORIES:Sportif
STATUS:
DESCRIPTION:<p><em><strong><span
 style="color:#8e44ad;">https://www.labizikleta.fr/</span></strong></em></p>
 
 <p>2
 parcours :</p>
 
 <p>. LA MUXU 120 km / 1950 D+</p>
 
 <p>. LA PIMENTEE
 164 km / 2800 D+</p>
 
 <p> </p>
URL;VALUE=URI:https://www.ccv-castelmaurou.com/evenements/2026/05/24/la-bizikleta-c-2396130
END:VEVENT
END:VCALENDAR
