BEGIN:VCALENDAR
VERSION:2.0
PRODID:-//hacksw/handcal//NONSGML v1.0//EN
BEGIN:VEVENT
SUMMARY:Interclub LHERM (C)
UID:4474cb17-c4a6-4228-87f2-f731f9b3534d
DTSTART:20260517T060000Z
DTEND:20260517T220000Z
LOCATION:Localisation   
CATEGORIES:Sportif
STATUS:
DESCRIPTION:<p><b>Salle des Fetes</b><br />
 Place de L’eglise<br
 />
 Lherm</p>
 
 <p>Coordonnees GPS :<br />
 43°25'43.6"N
 1°13'24.6"E</p>
 
 <p>Parking :   Devant le groupe scolaire
 Rene CASSIN </p>
 
 <p><strong><span style="color:#8e44ad;"><span
 style="font-size:14px;">Guidon Lhermois : Randonnee
 Lhermoise</span></span></strong></p>
 
 <p><span
 style="color:#27ae60;"><strong> </strong></span><a
 href="https://www.openrunner.com/route-details/23163444"
 target="_blank"><span style="color:#27ae60;"><strong>Vert : 40 km -
 250 m d+ - Or 23163444 </strong></span></a></p>
 
 <p><a
 href="https://www.openrunner.com/route-details/23163256"
 target="_blank"><span style="color:#2980b9;"><strong>Bleu : 75 km -
 580 m d+ - Or 23163256 </strong></span></a></p>
 
 <p><a
 href="https://www.openrunner.com/route-details/23163378"
 target="_blank"><span style="color:#c0392b;"><strong>Rouge : 93 km -
 770 m d+ - Or 23163378 </strong></span></a></p>
 
 <p> </p>
URL;VALUE=URI:https://www.ccv-castelmaurou.com/evenements/2026/05/17/interclub-lherm-c-2396129
END:VEVENT
END:VCALENDAR
