BEGIN:VCALENDAR
VERSION:2.0
PRODID:-//hacksw/handcal//NONSGML v1.0//EN
BEGIN:VEVENT
SUMMARY:La Lozerienne (C)
UID:a1006b16-67bb-4eb0-ba2f-c6f6581aec5d
DTSTART:20260509T220000Z
DTEND:20260510T220000Z
LOCATION:Localisation   la canourgue
CATEGORIES:Sportif
STATUS:
URL;VALUE=URI:https://www.ccv-castelmaurou.com/evenements/2026/05/10/la-lozerienne-c-2396510
END:VEVENT
END:VCALENDAR
