BEGIN:VCALENDAR
VERSION:2.0
PRODID:-//hacksw/handcal//NONSGML v1.0//EN
BEGIN:VEVENT
SUMMARY:VNO BelAir-Reynies-Orgueil (84-76-67-VNO-600-500-450)
UID:ac886ec2-28e6-44ff-98ce-96815ce88524
DTSTART:20260429T220000Z
DTEND:20260430T220000Z
LOCATION:Localisation   
CATEGORIES:Entrainement
STATUS:
URL;VALUE=URI:https://www.ccv-castelmaurou.com/evenements/2026/04/30/vno-belair-reynies-orgueil-84-76-67-vno-600-500-450-2435435
END:VEVENT
END:VCALENDAR
