BEGIN:VCALENDAR
VERSION:2.0
PRODID:-//hacksw/handcal//NONSGML v1.0//EN
BEGIN:VEVENT
SUMMARY:VA Cambon-Enbrousse-Esclauzelles-(84-72-63-VA-750-600-450)
UID:19f32ade-3f14-4647-b7a8-7360ce5b54df
DTSTART:20260429T220000Z
DTEND:20260430T220000Z
LOCATION:Localisation   
CATEGORIES:Entrainement
STATUS:
URL;VALUE=URI:https://www.ccv-castelmaurou.com/evenements/2026/04/30/va-cambon-enbrousse-esclauzelles-84-72-63-va-750-600-450-2435364
END:VEVENT
END:VCALENDAR
