BEGIN:VCALENDAR
VERSION:2.0
PRODID:-//hacksw/handcal//NONSGML v1.0//EN
BEGIN:VEVENT
SUMMARY:VNO Corbarieu-Bardougne-Reynies (85-77-71VNO-700-650-500)
UID:d6b50226-d271-4389-8031-b1bff546fc48
DTSTART:20260427T220000Z
DTEND:20260428T220000Z
LOCATION:Localisation   
CATEGORIES:Entrainement
STATUS:
URL;VALUE=URI:https://www.ccv-castelmaurou.com/evenements/2026/04/28/vno-corbarieu-bardougne-reynies-85-77-71vno-700-650-500-2435429
END:VEVENT
END:VCALENDAR
