BEGIN:VCALENDAR
VERSION:2.0
PRODID:-//hacksw/handcal//NONSGML v1.0//EN
BEGIN:VEVENT
SUMMARY:Interclub SAINT JORY (C)
UID:d2ee9d0d-709e-45ad-b1ea-dc359345ac36
DTSTART:20260426T060000Z
DTEND:20260426T220000Z
LOCATION:Localisation Gymnase Segusino  Route de Saint Sauveur   saint jory
CATEGORIES:Sportif
STATUS:
DESCRIPTION:<p><b>Gymnase Segusino           
   </b>Coordonnees GPS :<br />
 Route de Saint Sauveur       
  43°44'46.6"N 1°22'32.1"E<br />
 SAINT JORY</p>
 
 <p><a
 href="https://www.cyclotourisme-31.com/uploaded/Circuits_InterClubs/2026/st-jory-2026.pdf"
 target="_blank"><span
 style="color:#8e44ad;"><strong>Circuits</strong></span></a><span
 style="color:#8e44ad;">       </span><a
 href="https://www.cyclotourisme-31.com/uploaded/Lieux_accueil/D%C3%A9parts_Rando/saint-jory.pdf"
 target="_blank"><span style="color:#8e44ad;"><strong> Lieu
 d'insciption</strong></span></a><span
 style="color:#8e44ad;">   </span></p>
 
 <p><strong><em>Saint Jory
 Cyclotourisme : </em></strong>22 eme Randonnee
 Saint-Joryenne</p>
 
 <p> </p>
 
 <p> </p>
 
 <p><strong><a
 href="https://www.openrunner.com/route-details/23696052"
 target="_blank"><span style="color:#27ae60;"> Vert : 37 km - 268 m
 d+ - Or 23696052 </span></a><span
 style="color:#27ae60;"> </span></strong></p>
 
 <p><a
 href="https://www.openrunner.com/route-details/23731146"
 target="_blank"><span style="color:#2980b9;"><strong> Bleu : 66 km -
 514 m d+ - Or 23731146 </strong></span></a></p>
 
 <p><a
 href="https://www.openrunner.com/route-details/23728124"
 target="_blank"><span style="color:#c0392b;"><strong> Rouge : 82 km
 - 670 m d+ - Or
 23728124 </strong></span></a></p>
 
 <p> </p>
 
 <p> </p>
URL;VALUE=URI:https://www.ccv-castelmaurou.com/evenements/2026/04/26/interclub-saint-jory-c-2396123
END:VEVENT
END:VCALENDAR
