BEGIN:VCALENDAR
VERSION:2.0
PRODID:-//hacksw/handcal//NONSGML v1.0//EN
BEGIN:VEVENT
SUMMARY:VNO Fabas-Orgueil-Fronton (82-76-68-VNO-550-500-400)
UID:f4f7c958-ac43-4357-ba7d-9a0464a0a2a6
DTSTART:20260422T220000Z
DTEND:20260423T220000Z
LOCATION:Localisation   
CATEGORIES:Entrainement
STATUS:
URL;VALUE=URI:https://www.ccv-castelmaurou.com/evenements/2026/04/23/vno-fabas-orgueil-fronton-82-76-68-vno-550-500-400-2435424
END:VEVENT
END:VCALENDAR
