BEGIN:VCALENDAR
VERSION:2.0
PRODID:-//hacksw/handcal//NONSGML v1.0//EN
BEGIN:VEVENT
SUMMARY:VA Cambon-MaurensScopont-Caraman (85-76-68-VA750-600-500)
UID:f041dc9b-1b83-4c28-81d4-b6afeffdc35f
DTSTART:20260420T220000Z
DTEND:20260421T220000Z
LOCATION:Localisation   
CATEGORIES:Entrainement
STATUS:
URL;VALUE=URI:https://www.ccv-castelmaurou.com/evenements/2026/04/21/va-cambon-maurensscopont-caraman-85-76-68-va750-600-500-2435356
END:VEVENT
END:VCALENDAR
