BEGIN:VCALENDAR
VERSION:2.0
PRODID:-//hacksw/handcal//NONSGML v1.0//EN
BEGIN:VEVENT
SUMMARY:Interclub LA SALVETAT-SAINT-GILLES (C)
UID:194f1a1f-c93b-4db1-891c-97adb30340c7
DTSTART:20260419T060000Z
DTEND:20260419T220000Z
LOCATION:Localisation 139 Avenue de Gascogne  la salvetat saint gilles
CATEGORIES:Sportif
STATUS:
DESCRIPTION:<p><span
 style="color:#8e44ad;"><em>https://www.cyclotourisme-31.com/evenement-145-la-salvetat-saint-gilles.html</em></span></p>
 
 <p><b>Gymnase
 de l'Apouticayre             </b>Coordonnees GPS :<br />
 139
 Avenue de Gascogne                 43° 34' 22"N 1° 14'
 47"E<br />
 La Salvetat Saint Gilles<br />
 (Parking College
 Galilee)</p>
 
 <p><strong><em>Cyclo Salvetain :  </em></strong>La
 Randonnee Alain Savoldelli</p>
 
 <p>Inscriptions de 7h30 a 10h /
 Retours avant 12h</p>
 
 <p><strong><em><a
 href="http://cyclosalvetain.com/_media/img/large/image-3-circuits-seuls.jpg"
 target="_blank">Circuits</a>          <u><a
 href="http://cyclosalvetain.com/randonnee-cyclo-alain-savoldelli-2026.html"
 target="_blank">Affiche</a></u></em></strong>          <a
 href="https://www.cyclotourisme-31.com/uploaded/Lieux_accueil/D%C3%A9parts_Rando/lasalvetatapouticayre.jpg"
 target="_blank"><em><strong>Lieu
 d'inscription</strong></em></a><em><strong>   </strong></em></p>
 
 <p><a
 href="https://www.openrunner.com/route-details/18339274"
 target="_blank"><span style="color:#c0392b;"><strong>Rouge - 87 km -
 907 m d+ - Or 18339274</strong></span></a></p>
 
 <p><a
 href="https://www.openrunner.com/route-details/18339352"
 target="_blank"><strong>Bleu - 72 km - 599 m d+ Or
 18339352</strong></a></p>
 
 <p><a
 href="https://www.openrunner.com/route-details/18340424"
 target="_blank"><span style="color:#27ae60;"><strong>Vert - 30 km -
 227 m d+ - Or 18340424</strong></span></a></p>
 
 <p> </p>
URL;VALUE=URI:https://www.ccv-castelmaurou.com/evenements/2026/04/19/interclub-la-salvetat-saint-gilles-c-2396121
END:VEVENT
END:VCALENDAR
