BEGIN:VCALENDAR
VERSION:2.0
PRODID:-//hacksw/handcal//NONSGML v1.0//EN
BEGIN:VEVENT
SUMMARY:Sortie weekend S16 VNO
UID:e9e7d2ad-0426-499b-8407-7c47bbf27f4d
DTSTART:20260417T220000Z
DTEND:20260419T220000Z
LOCATION:Localisation   
CATEGORIES:Sportif
STATUS:
DESCRIPTION:<h2><span style="color:#2980b9;">Circuit Bleu 78Km et
 570m de denivele : </span></h2>
 
 <h2><iframe width="100%"
 height="650" loading="lazy"
 src="https://www.openrunner.com/embed.html?code=43325673592f3053416361636b6878555973546a6553302f6b6d716c4373345873573831654b7441712b6f3d3a3a8f85242e82d14023c20a2e0881bfa26b&lang=fr&unit=metric"
 style="border: none;"></iframe></h2>
 
 <h2> </h2>
 
 <h2><span
 style="color:#e74c3c;">Circuit Rouge 88Km et 730m de denivele
 : </span></h2>
 
 <p><span style="color:#e74c3c;"><iframe width="100%"
 height="650" loading="lazy"
 src="https://www.openrunner.com/embed.html?code=784b567a71616b35557454332b364a69324c4d4936736c6448466374764364446e59463541344a3678314d3d3a3ab3bc4204915c04f79775047e044838c0&lang=fr&unit=metric"
 style="border: none;"></iframe></span></p>
URL;VALUE=URI:https://www.ccv-castelmaurou.com/evenements/2026/04/18/sortie-weekend-s16-vno-2431039
END:VEVENT
END:VCALENDAR
