BEGIN:VCALENDAR
VERSION:2.0
PRODID:-//hacksw/handcal//NONSGML v1.0//EN
BEGIN:VEVENT
SUMMARY:Sortie weekend S16 VA
UID:18dbd226-b6ad-4ae7-a151-0a86e0e4261d
DTSTART:20260417T220000Z
DTEND:20260419T220000Z
LOCATION:Localisation   
CATEGORIES:Sportif
STATUS:
DESCRIPTION:<h2><span style="color:#2980b9;">Circuit Bleu 77Km et
 780m de denivele :</span></h2>
 
 <h2><iframe width="100%" height="650"
 loading="lazy"
 src="https://www.openrunner.com/embed.html?code=416f57697369594f716d6b523178325249504a586971364f424c2b78573676386c4a61784435632f6777513d3a3aa2db7d1167d9e45247067972500b294b&lang=fr&unit=metric"
 style="border: none;"></iframe></h2>
 
 <p> </p>
 
 <h2><span
 style="color:#e74c3c;">Circuit Rouge 86Km et 830m de denivele
 : </span></h2>
 
 <p><span style="color:#e74c3c;"><iframe width="100%"
 height="650" loading="lazy"
 src="https://www.openrunner.com/embed.html?code=4f6e6c377461475677434f41546a53682f414d664331316d4f52474e4c6b306a4e305673685a6f5675304d3d3a3ad180e3712a41be0d7f303da026e6a141&lang=fr&unit=metric"
 style="border: none;"></iframe></span></p>
URL;VALUE=URI:https://www.ccv-castelmaurou.com/evenements/2026/04/18/sortie-weekend-s16-va-2431036
END:VEVENT
END:VCALENDAR
