BEGIN:VCALENDAR
VERSION:2.0
PRODID:-//hacksw/handcal//NONSGML v1.0//EN
BEGIN:VEVENT
SUMMARY:VNO Tauriac-Montvalen-Layrac ( 84-76-65-VNO-700-600-500)
UID:675a61ae-74a1-421f-a320-29db41ecec51
DTSTART:20260415T220000Z
DTEND:20260416T220000Z
LOCATION:Localisation   
CATEGORIES:Entrainement
STATUS:
URL;VALUE=URI:https://www.ccv-castelmaurou.com/evenements/2026/04/16/vno-tauriac-montvalen-layrac-84-76-65-vno-700-600-500-2435402
END:VEVENT
END:VCALENDAR
