BEGIN:VCALENDAR
VERSION:2.0
PRODID:-//hacksw/handcal//NONSGML v1.0//EN
BEGIN:VEVENT
SUMMARY:VN St-Urcisse-Belugue-Grazac(88-77-72-VN-750-650-550)
UID:c7ed9312-204e-4f5b-ae31-64674e09e30c
DTSTART:20260416T113000Z
DTEND:20260416T220000Z
LOCATION:Localisation   
CATEGORIES:Sportif
STATUS:
DESCRIPTION:<p><span style="color:#8e44ad;"><strong>Proposition en
 remplacement des circuits prevus</strong></span></p>
URL;VALUE=URI:https://www.ccv-castelmaurou.com/evenements/2026/04/16/vn-st-urcisse-belugue-grazac88-77-72-vn-750-650-550-2441728
END:VEVENT
END:VCALENDAR
