BEGIN:VCALENDAR
VERSION:2.0
PRODID:-//hacksw/handcal//NONSGML v1.0//EN
BEGIN:VEVENT
SUMMARY:VA Pratviel-Roquevidal-Veilhes (84-78-71-VA-700-600-500)
UID:0d0eb3a7-58b2-4284-b134-66d84421db2a
DTSTART:20260415T220000Z
DTEND:20260416T220000Z
LOCATION:Localisation   
CATEGORIES:Entrainement
STATUS:
URL;VALUE=URI:https://www.ccv-castelmaurou.com/evenements/2026/04/16/va-pratviel-roquevidal-veilhes-84-78-71-va-700-600-500-2435351
END:VEVENT
END:VCALENDAR
