BEGIN:VCALENDAR
VERSION:2.0
PRODID:-//hacksw/handcal//NONSGML v1.0//EN
BEGIN:VEVENT
SUMMARY:Interclub FONBEAUZARD (C)
UID:2078ca56-07dd-487b-b7c5-896e38475989
DTSTART:20260412T060000Z
DTEND:20260412T220000Z
LOCATION:Localisation 28 Rue Jean Mermoz  fonbeauzard
CATEGORIES:Sportif
STATUS:
DESCRIPTION:<p><b>Espace Andre Gentilet          </b>Coordonnees
 GPS :<b>          </b><br />
 28 Rue Jean Mermoz         
     43° 40' 52"N 1° 26' 04"E<br
 />
 Fonbeauzard</p>
 
 <p><strong><a
 href="https://www.cyclotourisme-31.com/uploaded/Circuits_InterClubs/2026/fonbeauzard-2026.pdf"
 target="_blank"><span
 style="color:#8e44ad;"><em>Circuits</em></span></a></strong><span
 style="color:#8e44ad;">        </span><em><strong><a
 href="https://www.cyclotourisme-31.com/uploaded/Lieux_accueil/D%C3%A9parts_Rando/fonbeauzard.pdf"
 target="_blank"><span style="color:#8e44ad;">Lieu
 d'inscription</span></a></strong></em></p>
 
 <p><em><strong>Cyclo
 Randonneurs Beauzifontins : </strong></em><em>37eme Randonnee de "La
 Font"</em></p>
 
 <p><a
 href="https://www.openrunner.com/route-details/8322283"
 target="_blank"><span style="color:#27ae60;"><strong>Vert : 48 km -
 d+ 459 m - Or 8322283</strong></span></a></p>
 
 <p><a
 href="https://www.openrunner.com/route-details/8322346"
 target="_blank"><span style="color:#2980b9;"><strong>Bleu : 69 km -
 d+ 634 m - Or 8322346</strong></span></a></p>
 
 <p><a
 href="https://www.openrunner.com/route-details/23235545"
 target="_blank"><span style="color:#e74c3c;"><strong>Rouge : 90 km -
 d+ 846 m - Or 23235545</strong></span></a></p>
URL;VALUE=URI:https://www.ccv-castelmaurou.com/evenements/2026/04/12/interclub-fonbeauzard-c-2396119
END:VEVENT
END:VCALENDAR
