BEGIN:VCALENDAR
VERSION:2.0
PRODID:-//hacksw/handcal//NONSGML v1.0//EN
BEGIN:VEVENT
SUMMARY:Sortie weekend S15 VNO
UID:19c23653-8726-4cdd-aaba-fb63d759fddc
DTSTART:20260410T220000Z
DTEND:20260412T220000Z
LOCATION:Localisation   
CATEGORIES:Sportif
STATUS:
DESCRIPTION:<h1><span style="color:#2980b9;">Circuit Bleu 77Km et
 580m de denivele : </span></h1>
 
 <h1><iframe width="100%"
 height="650" loading="lazy"
 src="https://www.openrunner.com/embed.html?code=64697756333864556a706e2f4e56484d374145706662766e77323176667541346b7631756d5872534f37773d3a3a890b248bca114b070c7624361cfcfdb2&lang=fr&unit=metric"
 style="border: none;"></iframe></h1>
 
 <p> </p>
 
 <h1><span
 style="color:#e74c3c;">Circuit Rouge 84Km et 700m de denivele
 : </span></h1>
 
 <p><span style="color:#e74c3c;"><iframe width="100%"
 height="650" loading="lazy"
 src="https://www.openrunner.com/embed.html?code=54572b54756d6359356545696471774b50584f662b703256654b5a6c585a7957766f57503841707454636f3d3a3a6e07e7aeec486a0700f4c80c9de174b6&lang=fr&unit=metric"
 style="border: none;"></iframe></span></p>
URL;VALUE=URI:https://www.ccv-castelmaurou.com/evenements/2026/04/11/sortie-weekend-s15-vno-2431035
END:VEVENT
END:VCALENDAR
