BEGIN:VCALENDAR
VERSION:2.0
PRODID:-//hacksw/handcal//NONSGML v1.0//EN
BEGIN:VEVENT
SUMMARY:Sortie weekend S15 VA
UID:2f119445-ca30-4348-82d7-293cf853b98d
DTSTART:20260410T220000Z
DTEND:20260412T220000Z
LOCATION:Localisation   
CATEGORIES:Sportif
STATUS:
DESCRIPTION:<h2><span style="color:#2980b9;">Circuit Bleu 69Km et
 570m de denivele : </span></h2>
 
 <h2><iframe width="100%"
 height="650" loading="lazy"
 src="https://www.openrunner.com/embed.html?code=6f47704e72426b6f3753474e474f567a58537130584c595a77346b65522f317071566139797a31663076303d3a3a1037a5c3dbba6a045f73e44492040ac6&lang=fr&unit=metric"
 style="border: none;"></iframe></h2>
 
 <h2> </h2>
 
 <h2><span
 style="color:#e74c3c;">Circuit Rouge 86Km et 850m de denivele
 :</span></h2>
 
 <p><span style="color:#e74c3c;"><iframe width="100%"
 height="650" loading="lazy"
 src="https://www.openrunner.com/embed.html?code=6f65516f7943437a584c67315944637767593741333743794b39756342593473645461795142596a4d70673d3a3a9b9e6cd3ee5d819b2791a37ed2b2b157&lang=fr&unit=metric"
 style="border: none;"></iframe></span></p>
URL;VALUE=URI:https://www.ccv-castelmaurou.com/evenements/2026/04/11/sortie-weekend-s15-va-2431034
END:VEVENT
END:VCALENDAR
