BEGIN:VCALENDAR
VERSION:2.0
PRODID:-//hacksw/handcal//NONSGML v1.0//EN
BEGIN:VEVENT
SUMMARY:VNO- Reynies-Villebrumier-LeTerme-VNO-82-75-69-VNO-650-550-500
UID:c95b9726-0822-43ae-8be1-52bfed3500fc
DTSTART:20260409T113000Z
DTEND:20260409T220000Z
LOCATION:Localisation   
CATEGORIES:Entrainement
STATUS:
URL;VALUE=URI:https://www.ccv-castelmaurou.com/evenements/2026/04/09/vno-reynies-villebrumier-leterme-vno-82-75-69-vno-650-550-500-2435395
END:VEVENT
END:VCALENDAR
