BEGIN:VCALENDAR
VERSION:2.0
PRODID:-//hacksw/handcal//NONSGML v1.0//EN
BEGIN:VEVENT
SUMMARY:VA Lacougotte-Caraman-Saussens (82-72-63-VA- 650-600-500)
UID:3ba4e2c7-46c6-4541-9d86-c6beff942577
DTSTART:20260408T220000Z
DTEND:20260409T220000Z
LOCATION:Localisation   
CATEGORIES:Entrainement
STATUS:
URL;VALUE=URI:https://www.ccv-castelmaurou.com/evenements/2026/04/09/va-lacougotte-caraman-saussens-82-72-63-va-650-600-500-2435332
END:VEVENT
END:VCALENDAR
