BEGIN:VCALENDAR
VERSION:2.0
PRODID:-//hacksw/handcal//NONSGML v1.0//EN
BEGIN:VEVENT
SUMMARY:VNO Garabio-Codeval-Nohic-VNO (82-75-68-VNO-650-550-450)
UID:aa1ac977-1958-4ef1-b72d-8373e441373b
DTSTART:20260406T220000Z
DTEND:20260407T220000Z
LOCATION:Localisation   
CATEGORIES:Entrainement
STATUS:
URL;VALUE=URI:https://www.ccv-castelmaurou.com/evenements/2026/04/07/vno-garabio-codeval-nohic-vno-82-75-68-vno-650-550-450-2435394
END:VEVENT
END:VCALENDAR
