BEGIN:VCALENDAR
VERSION:2.0
PRODID:-//hacksw/handcal//NONSGML v1.0//EN
BEGIN:VEVENT
SUMMARY:VA LeFalga-Auriac-Mascarville-(83-76-69-VA-750-600-500)
UID:bb82c9e9-821d-46a9-9b66-24a0e01ac00f
DTSTART:20260406T220000Z
DTEND:20260407T220000Z
LOCATION:Localisation   
CATEGORIES:Entrainement
STATUS:
URL;VALUE=URI:https://www.ccv-castelmaurou.com/evenements/2026/04/07/va-lefalga-auriac-mascarville-83-76-69-va-750-600-500-2435322
END:VEVENT
END:VCALENDAR
